BEGIN:VCALENDAR
VERSION:2.0
PRODID:-//Tukios.com/
BEGIN:VEVENT
UID:d394e768-65ff-444e-84e6-fa70a558d6e0@www.kinsleymortuary.com
DTSTAMP:20260423T194059Z
DTSTART:20260428T190000Z
DTEND:20260428T200000Z
SUMMARY:Visitation
DESCRIPTION:
URL:https://www.kinsleymortuary.com/obituaries/john-donald
LOCATION: 1310 Carolina St  Marysville KS 66508
GEO:39.8433069;-96.6411643
END:VEVENT
END:VCALENDAR