BEGIN:VCALENDAR
VERSION:2.0
PRODID:-//Tukios.com/
BEGIN:VEVENT
UID:f06db49d-7ee8-4e8c-8087-8af3a448390a@www.kinsleymortuary.com
DTSTAMP:20260423T193958Z
DTSTART:20260428T200000Z
DTEND:20260428T210000Z
SUMMARY:Funeral Service
DESCRIPTION:
URL:https://www.kinsleymortuary.com/obituaries/john-donald
LOCATION: 1310 Carolina St  Marysville KS 66508
GEO:39.8433069;-96.6411643
END:VEVENT
END:VCALENDAR