BEGIN:VCALENDAR
VERSION:2.0
PRODID:-//Tukios.com/
BEGIN:VEVENT
UID:a3d12be1-469c-4a19-9f15-a1cd2cb87993@www.kinsleymortuary.com
DTSTAMP:20260423T194246Z
DTSTART:20260428T210000Z
DTEND:20260428T213000Z
SUMMARY:Burial
DESCRIPTION:
URL:https://www.kinsleymortuary.com/obituaries/john-donald
LOCATION: 1155 11th Road  Marysville KS 66508
GEO:39.8479053;-96.6197579
END:VEVENT
END:VCALENDAR